BEGIN:VCALENDAR
VERSION:2.0
PRODID:icalendar-ruby
CALSCALE:GREGORIAN
METHOD:PUBLISH
BEGIN:VEVENT
DTSTAMP:20260420T045743Z
UID:77-777703@huttonheights.ca
DTSTART:20260419T223000Z
DTEND:20260420T003000Z
CLASS:PUBLIC
CREATED:20260415T124838
DESCRIPTION:
LAST-MODIFIED:20260415T124838
LOCATION:Hutton Heights Community Church
SUMMARY:Youth Group
URL;VALUE=URI:https://huttonheights.ca/events/youth-group--77/2026-04-19
ATTACH;FILENAME=Nerf-Gun-Night.png;FMTTYPE=image/png:https://dq5pwpg1q8ru0.
 cloudfront.net/2026/04/15/16/48/38/6bb893d1-4c15-49fc-8fa4-e0e604e28d6b/Ne
 rf-Gun-Night.png
END:VEVENT
END:VCALENDAR
