BEGIN:VCALENDAR
VERSION:2.0
PRODID:icalendar-ruby
CALSCALE:GREGORIAN
METHOD:PUBLISH
BEGIN:VEVENT
DTSTAMP:20260420T045745Z
UID:76-773604@huttonheights.ca
DTSTART:20260418T120000Z
DTEND:20260419T160000Z
CLASS:PUBLIC
CREATED:20260410T102015
DESCRIPTION:Early bird price is $20\, which includes a full breakfast.  Th
 e price at the door is $30\, also includes a full breakfast.
LAST-MODIFIED:20260410T102015
LOCATION:Listowel Pentecostal Church
SUMMARY:Men's Conference
URL;VALUE=URI:https://huttonheights.ca/events/mens-conference/2026-04-18
ATTACH;FILENAME=Mens-Conference.png;FMTTYPE=image/png:https://dq5pwpg1q8ru0
 .cloudfront.net/2026/04/10/14/20/15/9373a5dc-4ff9-452e-8ac0-98e9673473a9/M
 ens-Conference.png
END:VEVENT
END:VCALENDAR
